BEGIN:VCALENDAR
PRODID:-//AT Content Types//AT Event//EN
VERSION:2.0
METHOD:PUBLISH
BEGIN:VEVENT
DTSTAMP:20260424T082438Z
CREATED:20170207T100406Z
UID:ATEvent-4a582958128cc57571186fa8fe0061aa
LAST-MODIFIED:20171130T150007Z
SUMMARY:Twickenham Drop-in Event
DTSTART:20170318T100000Z
DTEND:20170318T160000Z
DESCRIPTION:An opportunity to meet the village planning team and share
  your thoughts on your local village plan.\n\nAt: Trafalgar Infant Sch
 ool (Meadway Site)\, TW2 6PY
CLASS:PUBLIC
END:VEVENT
END:VCALENDAR
