BEGIN:VCALENDAR
PRODID:-//AT Content Types//AT Event//EN
VERSION:2.0
METHOD:PUBLISH
BEGIN:VEVENT
DTSTAMP:20260423T090352Z
CREATED:20201217T134240Z
UID:ATEvent-71cf3324c3754b758be00741b763bce4
LAST-MODIFIED:20210106T101642Z
SUMMARY:Virtual Exhibition
DTSTART:20210106T183000Z
DTEND:20210106T200000Z
CLASS:PUBLIC
END:VEVENT
END:VCALENDAR
