BEGIN:VCALENDAR
PRODID:-//AT Content Types//AT Event//EN
VERSION:2.0
METHOD:PUBLISH
BEGIN:VEVENT
DTSTAMP:20260421T004604Z
CREATED:20151006T162125Z
UID:ATEvent-fb6ced99252c6db5da857f9a6a0371be
LAST-MODIFIED:20171130T144528Z
SUMMARY:East Twickenham Village Plan/SPD drop in
DTSTART:20151011T090000Z
DTEND:20151011T150000Z
DESCRIPTION:An opportunity to meet officers to discuss the draft SPD d
 ocument for East Twickenham.\n\nVenue : Twickenham Film Studios\, The 
 Barons
CLASS:PUBLIC
END:VEVENT
END:VCALENDAR
