BEGIN:VCALENDAR
PRODID:-//AT Content Types//AT Event//EN
VERSION:2.0
METHOD:PUBLISH
BEGIN:VEVENT
DTSTAMP:20260425T191340Z
CREATED:20160218T123036Z
UID:ATEvent-ca6b50b57e1d3c4f9fbaa6bb177fe4f1
LAST-MODIFIED:20171130T143721Z
SUMMARY:Public exhibition of proposals
DTSTART:20160307T170000Z
DTEND:20160307T200000Z
CLASS:PUBLIC
END:VEVENT
END:VCALENDAR
