BEGIN:VCALENDAR
PRODID:-//AT Content Types//AT Event//EN
VERSION:2.0
METHOD:PUBLISH
BEGIN:VEVENT
DTSTAMP:20260425T193208Z
CREATED:20160422T092018Z
UID:ATEvent-a747588020efe3379d0bfd1c6398a68c
LAST-MODIFIED:20171201T110102Z
SUMMARY:Patient participation group information event
DTSTART:20160609T170000Z
DTEND:20160609T200000Z
DESCRIPTION:If you are interested in finding out more about PPGs why n
 ot come along to our patient participation group information event on 
 9 June from 18:00 to 21:00 in York House\, Twickenham. \n\nTo find out
  more and to book a place email ccginvolve@richmond.gov.uk
CLASS:PUBLIC
END:VEVENT
END:VCALENDAR
