BEGIN:VCALENDAR
PRODID:-//AT Content Types//AT Event//EN
VERSION:2.0
METHOD:PUBLISH
BEGIN:VEVENT
DTSTAMP:20260424T081802Z
CREATED:20181025T143142Z
UID:ATEvent-26e2deae6689736a22d9b4cac4b7d93b
LAST-MODIFIED:20181026T150347Z
SUMMARY:Drop-in session
DTSTART:20181119T190000Z
DTEND:20181119T203000Z
DESCRIPTION:Location: The Venue\, Heatham House Youth Centre\, Whitton
  Road\, Twickenham TW1 1BH
CLASS:PUBLIC
END:VEVENT
END:VCALENDAR
