BEGIN:VCALENDAR
PRODID:-//AT Content Types//AT Event//EN
VERSION:2.0
METHOD:PUBLISH
BEGIN:VEVENT
DTSTAMP:20260422T101852Z
CREATED:20181025T143143Z
UID:ATEvent-c7cd9cd40a0b165d49519dee16f160b1
LAST-MODIFIED:20181026T150347Z
SUMMARY:Drop-in session
DTSTART:20181116T130000Z
DTEND:20181116T143000Z
DESCRIPTION:Location: The Venue\, Heatham House Youth Centre\, Whitton
  Road\, Twickenham TW1 1BH
CLASS:PUBLIC
END:VEVENT
END:VCALENDAR
