BEGIN:VCALENDAR
PRODID:-//AT Content Types//AT Event//EN
VERSION:2.0
METHOD:PUBLISH
BEGIN:VEVENT
DTSTAMP:20260422T101958Z
CREATED:20181025T143143Z
UID:ATEvent-08dd88dd9cb878678f0f0e95e2445e6c
LAST-MODIFIED:20181026T150347Z
SUMMARY:Drop-in session
DTSTART:20181120T103000Z
DTEND:20181120T120000Z
DESCRIPTION:Location: The Venue\, Heatham House Youth Centre\, Whitton
  Road\, Twickenham TW1 1BH
CLASS:PUBLIC
END:VEVENT
END:VCALENDAR
